BEGIN:VCALENDAR
VERSION:2.0
PRODID:-//ChurchDev//Events//EN
CALSCALE:GREGORIAN
METHOD:PUBLISH
BEGIN:VEVENT
UID:2934-20220814@www.lindseygrovechurch.com
SUMMARY:Missions Sunday
DTSTART:20220814T155500Z
DTEND:20220814T160000Z
DESCRIPTION:Monthly Missions Service. Often the message is centered around Missions and a special offering is taken up for the Missions Fund. Our Missions Fund is used to provide help to Missionaries both in the US and in other countries. We attend the yearly Missions Conference in Eaton\, OH\, at Covenant of Peace International (https://copiministries.org). We hear the needs of many Missionaries from around the world and give 100% of our Missions Fund to the Missions that we feel led to help. We come home...\\n\\nhttps://www.lindseygrovechurch.com/events/2934/
LOCATION:83 Shoally Branch Road\, Leoma\, TN 38468
URL:https://www.lindseygrovechurch.com/events/2934/
DTSTAMP:20260419T225424Z
END:VEVENT
END:VCALENDAR
