BEGIN:VCALENDAR
VERSION:2.0
PRODID:-//ChurchDev//Events//EN
CALSCALE:GREGORIAN
METHOD:PUBLISH
BEGIN:VEVENT
UID:2935-20220821@www.lindseygrovechurch.com
SUMMARY:Singing Night
DTSTART:20220821T220000Z
DTEND:20220821T233000Z
DESCRIPTION:Singing Night is a service that is dedicated to worshiping our God with song and testimony. Anyone in the congregation is welcome to come up on stage and sing a solo\, share their testimony\, or both. Sometimes Pastor Dustin will have someone lead a devotional during the service as well.\\n\\nhttps://www.lindseygrovechurch.com/events/singing-night/
LOCATION:83 Shoally Branch Road\, Leoma\, TN 38468
URL:https://www.lindseygrovechurch.com/events/singing-night/
DTSTAMP:20260419T225157Z
END:VEVENT
END:VCALENDAR
