BEGIN:VCALENDAR
VERSION:2.0
PRODID:-//ChurchDev//Events//EN
CALSCALE:GREGORIAN
METHOD:PUBLISH
BEGIN:VEVENT
UID:2937-20230604@www.lindseygrovechurch.com
SUMMARY:Homecoming Service
DTSTART:20230604T150000Z
DTEND:20230604T200000Z
DESCRIPTION:2023 Homecoming and Cemetery decoration day\\n\\nhttps://www.lindseygrovechurch.com/events/2023-homecoming/
LOCATION:83 Shoally Branch Road\, Leoma\, TN 38468
URL:https://www.lindseygrovechurch.com/events/2023-homecoming/
DTSTAMP:20260419T225339Z
END:VEVENT
END:VCALENDAR
