BEGIN:VCALENDAR
VERSION:2.0
PRODID:-//ChurchDev//Events//EN
CALSCALE:GREGORIAN
METHOD:PUBLISH
BEGIN:VEVENT
UID:3051-20250214@www.lindseygrovechurch.com
SUMMARY:Victorious Sisters Bible Study
DTSTART:20250215T000000Z
DTEND:20250215T010000Z
DESCRIPTION:https://www.lindseygrovechurch.com/events/victorious-sisters-bible-study/
LOCATION:83 Shoally Branch Road\, Leoma\, TN 38468
URL:https://www.lindseygrovechurch.com/events/victorious-sisters-bible-study/
DTSTAMP:20260419T225526Z
END:VEVENT
END:VCALENDAR
