BEGIN:VCALENDAR
VERSION:2.0
PRODID:-//ChurchDev//Events//EN
CALSCALE:GREGORIAN
METHOD:PUBLISH
BEGIN:VEVENT
UID:3052-20250221@www.lindseygrovechurch.com
SUMMARY:Men&#8217\;s Bible Study
DTSTART:20250222T000000Z
DTEND:20250222T010000Z
DESCRIPTION:https://www.lindseygrovechurch.com/events/mens-bible-study/
LOCATION:83 Shoally Branch Road\, Leoma\, TN 38468
URL:https://www.lindseygrovechurch.com/events/mens-bible-study/
DTSTAMP:20260419T225425Z
END:VEVENT
END:VCALENDAR
